BEGIN:VCALENDAR
VERSION:2.0
PRODID:-//Vänsterpartiet Upplands-Bro - ECPv6.15.17.1//NONSGML v1.0//EN
CALSCALE:GREGORIAN
METHOD:PUBLISH
X-WR-CALNAME:Vänsterpartiet Upplands-Bro
X-ORIGINAL-URL:https://upplands-bro.vansterpartiet.se
X-WR-CALDESC:Händelser för Vänsterpartiet Upplands-Bro
REFRESH-INTERVAL;VALUE=DURATION:PT1H
X-Robots-Tag:noindex
X-PUBLISHED-TTL:PT1H
BEGIN:VTIMEZONE
TZID:Europe/Stockholm
BEGIN:DAYLIGHT
TZOFFSETFROM:+0100
TZOFFSETTO:+0200
TZNAME:CEST
DTSTART:20240331T010000
END:DAYLIGHT
BEGIN:STANDARD
TZOFFSETFROM:+0200
TZOFFSETTO:+0100
TZNAME:CET
DTSTART:20241027T010000
END:STANDARD
BEGIN:DAYLIGHT
TZOFFSETFROM:+0100
TZOFFSETTO:+0200
TZNAME:CEST
DTSTART:20250330T010000
END:DAYLIGHT
BEGIN:STANDARD
TZOFFSETFROM:+0200
TZOFFSETTO:+0100
TZNAME:CET
DTSTART:20251026T010000
END:STANDARD
BEGIN:DAYLIGHT
TZOFFSETFROM:+0100
TZOFFSETTO:+0200
TZNAME:CEST
DTSTART:20260329T010000
END:DAYLIGHT
BEGIN:STANDARD
TZOFFSETFROM:+0200
TZOFFSETTO:+0100
TZNAME:CET
DTSTART:20261025T010000
END:STANDARD
END:VTIMEZONE
BEGIN:VEVENT
DTSTART;TZID=Europe/Stockholm:20250917T180000
DTEND;TZID=Europe/Stockholm:20250917T200000
DTSTAMP:20260421T020027
CREATED:20250520T093435Z
LAST-MODIFIED:20250520T093435Z
UID:3124-1758132000-1758139200@upplands-bro.vansterpartiet.se
SUMMARY:Kommunfullmäktige
DESCRIPTION:Följ oss live på: \nSe kommunfullmäktiges möten i webb-TV – Upplands-Bro
URL:https://upplands-bro.vansterpartiet.se/event/kommunfullmaktige-2/
END:VEVENT
END:VCALENDAR