BEGIN:VCALENDAR
VERSION:2.0
PRODID:-//Vänsterpartiet Upplands-Bro - ECPv6.15.17.1//NONSGML v1.0//EN
CALSCALE:GREGORIAN
METHOD:PUBLISH
X-ORIGINAL-URL:https://upplands-bro.vansterpartiet.se
X-WR-CALDESC:Händelser för Vänsterpartiet Upplands-Bro
REFRESH-INTERVAL;VALUE=DURATION:PT1H
X-Robots-Tag:noindex
X-PUBLISHED-TTL:PT1H
BEGIN:VTIMEZONE
TZID:Europe/Stockholm
BEGIN:DAYLIGHT
TZOFFSETFROM:+0100
TZOFFSETTO:+0200
TZNAME:CEST
DTSTART:20240331T010000
END:DAYLIGHT
BEGIN:STANDARD
TZOFFSETFROM:+0200
TZOFFSETTO:+0100
TZNAME:CET
DTSTART:20241027T010000
END:STANDARD
BEGIN:DAYLIGHT
TZOFFSETFROM:+0100
TZOFFSETTO:+0200
TZNAME:CEST
DTSTART:20250330T010000
END:DAYLIGHT
BEGIN:STANDARD
TZOFFSETFROM:+0200
TZOFFSETTO:+0100
TZNAME:CET
DTSTART:20251026T010000
END:STANDARD
BEGIN:DAYLIGHT
TZOFFSETFROM:+0100
TZOFFSETTO:+0200
TZNAME:CEST
DTSTART:20260329T010000
END:DAYLIGHT
BEGIN:STANDARD
TZOFFSETFROM:+0200
TZOFFSETTO:+0100
TZNAME:CET
DTSTART:20261025T010000
END:STANDARD
END:VTIMEZONE
BEGIN:VEVENT
DTSTART;TZID=Europe/Stockholm:20250603T180000
DTEND;TZID=Europe/Stockholm:20250603T200000
DTSTAMP:20260421T060829
CREATED:20250526T175913Z
LAST-MODIFIED:20250526T175913Z
UID:3175-1748973600-1748980800@upplands-bro.vansterpartiet.se
SUMMARY:Medlemsmöte
DESCRIPTION:Öppet medlemsmöte i lokal Dävensö på Kommunhuset i Kungsängen
URL:https://upplands-bro.vansterpartiet.se/event/medlemsmote/
END:VEVENT
BEGIN:VEVENT
DTSTART;TZID=Europe/Stockholm:20250606T110000
DTEND;TZID=Europe/Stockholm:20250606T150000
DTSTAMP:20260421T060829
CREATED:20250520T092207Z
LAST-MODIFIED:20250520T092207Z
UID:3114-1749207600-1749222000@upplands-bro.vansterpartiet.se
SUMMARY:Kungsdagen
DESCRIPTION:Vänsterpartiet kommer vara med på Kungsdagen! \nVi är i skrivande stund i full fart med att sätta vårt nästa politiska program. Vilka frågor tycker du är viktiga? Kom förbi och berätta för oss. \n \nKungsdagen
URL:https://upplands-bro.vansterpartiet.se/event/kungsdagen/
END:VEVENT
BEGIN:VEVENT
DTSTART;VALUE=DATE:20250611
DTEND;VALUE=DATE:20250615
DTSTAMP:20260421T060829
CREATED:20250520T090609Z
LAST-MODIFIED:20250520T093106Z
UID:3110-1749600000-1749945599@upplands-bro.vansterpartiet.se
SUMMARY:Järvaveckan
DESCRIPTION:Vänsterpartiet kommer närvara på Järvaveckan. \n12 juni mellan 15.15-15.40 talar Nooshi Dadgostar\, vill du åka med och se talet live med oss? Hör av dig till någon av oss. \nProgram 2025 – Järvaveckan 2025
URL:https://upplands-bro.vansterpartiet.se/event/test/
END:VEVENT
BEGIN:VEVENT
DTSTART;TZID=Europe/Stockholm:20250611T180000
DTEND;TZID=Europe/Stockholm:20250611T200000
DTSTAMP:20260421T060829
CREATED:20250520T092602Z
LAST-MODIFIED:20250520T092602Z
UID:3117-1749664800-1749672000@upplands-bro.vansterpartiet.se
SUMMARY:Kommunfullmäktige
DESCRIPTION:Följ oss live på: \nSe kommunfullmäktiges möten i webb-TV – Upplands-Bro
URL:https://upplands-bro.vansterpartiet.se/event/kommunfullmaktige/
END:VEVENT
END:VCALENDAR