BEGIN:VCALENDAR
VERSION:2.0
PRODID:-//Vänsterpartiet Upplands-Bro - ECPv6.15.17.1//NONSGML v1.0//EN
CALSCALE:GREGORIAN
METHOD:PUBLISH
X-ORIGINAL-URL:https://upplands-bro.vansterpartiet.se
X-WR-CALDESC:Händelser för Vänsterpartiet Upplands-Bro
REFRESH-INTERVAL;VALUE=DURATION:PT1H
X-Robots-Tag:noindex
X-PUBLISHED-TTL:PT1H
BEGIN:VTIMEZONE
TZID:Europe/Stockholm
BEGIN:DAYLIGHT
TZOFFSETFROM:+0100
TZOFFSETTO:+0200
TZNAME:CEST
DTSTART:20210328T010000
END:DAYLIGHT
BEGIN:STANDARD
TZOFFSETFROM:+0200
TZOFFSETTO:+0100
TZNAME:CET
DTSTART:20211031T010000
END:STANDARD
BEGIN:DAYLIGHT
TZOFFSETFROM:+0100
TZOFFSETTO:+0200
TZNAME:CEST
DTSTART:20220327T010000
END:DAYLIGHT
BEGIN:STANDARD
TZOFFSETFROM:+0200
TZOFFSETTO:+0100
TZNAME:CET
DTSTART:20221030T010000
END:STANDARD
BEGIN:DAYLIGHT
TZOFFSETFROM:+0100
TZOFFSETTO:+0200
TZNAME:CEST
DTSTART:20230326T010000
END:DAYLIGHT
BEGIN:STANDARD
TZOFFSETFROM:+0200
TZOFFSETTO:+0100
TZNAME:CET
DTSTART:20231029T010000
END:STANDARD
END:VTIMEZONE
BEGIN:VEVENT
DTSTART;TZID=Europe/Stockholm:20220909T180000
DTEND;TZID=Europe/Stockholm:20220922T203000
DTSTAMP:20260420T193939
CREATED:20220908T221527Z
LAST-MODIFIED:20220920T000532Z
UID:2486-1662746400-1663878600@upplands-bro.vansterpartiet.se
SUMMARY:Medlemsmöte den 22/9
DESCRIPTION:Medlemsmöte i Kungsängen den 22 september klockan 18.30\nUr dagordningen:\n18.30 Genomgång vad det kommunala valresultatet och de beslut som\nfattades i Kommunfullmäktige dagen före vårt möte innebär för\noss i Vänsterpartiet \n19.00 Eftervalstal via internet av partiordförande Nooshi Dagostar och \ndärefter möjlighet till ytterligare diskussioner. \nFör insläpp till lokal Dävensö träffas vi vid hissen vid ingången till Kulturhuset klockan\n18.25. Om du behöver komma in tidigare eller om du har blivit försenad ringer du oss på\ntelefon 072 178 87 10 så kommer vi ner och hämtar dig.
URL:https://upplands-bro.vansterpartiet.se/event/medlemsmote-den-22-9/
LOCATION:Kulturhuset\, Dävensö\, Kungsängen
END:VEVENT
END:VCALENDAR