BEGIN:VCALENDAR
VERSION:2.0
PRODID:-//Vänsterpartiet Upplands-Bro - ECPv6.15.17.1//NONSGML v1.0//EN
CALSCALE:GREGORIAN
METHOD:PUBLISH
X-WR-CALNAME:Vänsterpartiet Upplands-Bro
X-ORIGINAL-URL:https://upplands-bro.vansterpartiet.se
X-WR-CALDESC:Händelser för Vänsterpartiet Upplands-Bro
REFRESH-INTERVAL;VALUE=DURATION:PT1H
X-Robots-Tag:noindex
X-PUBLISHED-TTL:PT1H
BEGIN:VTIMEZONE
TZID:Europe/Stockholm
BEGIN:DAYLIGHT
TZOFFSETFROM:+0100
TZOFFSETTO:+0200
TZNAME:CEST
DTSTART:20250330T010000
END:DAYLIGHT
BEGIN:STANDARD
TZOFFSETFROM:+0200
TZOFFSETTO:+0100
TZNAME:CET
DTSTART:20251026T010000
END:STANDARD
BEGIN:DAYLIGHT
TZOFFSETFROM:+0100
TZOFFSETTO:+0200
TZNAME:CEST
DTSTART:20260329T010000
END:DAYLIGHT
BEGIN:STANDARD
TZOFFSETFROM:+0200
TZOFFSETTO:+0100
TZNAME:CET
DTSTART:20261025T010000
END:STANDARD
BEGIN:DAYLIGHT
TZOFFSETFROM:+0100
TZOFFSETTO:+0200
TZNAME:CEST
DTSTART:20270328T010000
END:DAYLIGHT
BEGIN:STANDARD
TZOFFSETFROM:+0200
TZOFFSETTO:+0100
TZNAME:CET
DTSTART:20271031T010000
END:STANDARD
END:VTIMEZONE
BEGIN:VEVENT
DTSTART;TZID=Europe/Stockholm:20260923T183000
DTEND;TZID=Europe/Stockholm:20260923T200000
DTSTAMP:20260421T055308
CREATED:20260224T091542Z
LAST-MODIFIED:20260224T091542Z
UID:3211-1790188200-1790193600@upplands-bro.vansterpartiet.se
SUMMARY:Kommunfullmäktige
DESCRIPTION:Läs handlingarna här: \nhttps://opengov.360online.com/Meetings/upplandsbro/Boards/Details/205414 \n  \nOch följ live på web-TV här: \nhttps://www.upplands-bro.se/kommun-och-politik/politik-och-demokrati/kommunfullmaktige/se-kommunfullmaktiges-moten-i-webb-tv.html
URL:https://upplands-bro.vansterpartiet.se/event/kommunfullmaktige-8/
LOCATION:BlackBox\, Furuhällsplan 1\, Kungsängen\, 19630
END:VEVENT
END:VCALENDAR