BEGIN:VCALENDAR
VERSION:2.0
PRODID:-//Vänsterpartiet Upplands-Bro - ECPv6.15.17.1//NONSGML v1.0//EN
CALSCALE:GREGORIAN
METHOD:PUBLISH
X-WR-CALNAME:Vänsterpartiet Upplands-Bro
X-ORIGINAL-URL:https://upplands-bro.vansterpartiet.se
X-WR-CALDESC:Händelser för Vänsterpartiet Upplands-Bro
REFRESH-INTERVAL;VALUE=DURATION:PT1H
X-Robots-Tag:noindex
X-PUBLISHED-TTL:PT1H
BEGIN:VTIMEZONE
TZID:Europe/Stockholm
BEGIN:DAYLIGHT
TZOFFSETFROM:+0100
TZOFFSETTO:+0200
TZNAME:CEST
DTSTART:20250330T010000
END:DAYLIGHT
BEGIN:STANDARD
TZOFFSETFROM:+0200
TZOFFSETTO:+0100
TZNAME:CET
DTSTART:20251026T010000
END:STANDARD
BEGIN:DAYLIGHT
TZOFFSETFROM:+0100
TZOFFSETTO:+0200
TZNAME:CEST
DTSTART:20260329T010000
END:DAYLIGHT
BEGIN:STANDARD
TZOFFSETFROM:+0200
TZOFFSETTO:+0100
TZNAME:CET
DTSTART:20261025T010000
END:STANDARD
BEGIN:DAYLIGHT
TZOFFSETFROM:+0100
TZOFFSETTO:+0200
TZNAME:CEST
DTSTART:20270328T010000
END:DAYLIGHT
BEGIN:STANDARD
TZOFFSETFROM:+0200
TZOFFSETTO:+0100
TZNAME:CET
DTSTART:20271031T010000
END:STANDARD
END:VTIMEZONE
BEGIN:VEVENT
DTSTART;TZID=Europe/Stockholm:20260315T130000
DTEND;TZID=Europe/Stockholm:20260315T160000
DTSTAMP:20260420T193917
CREATED:20260224T091945Z
LAST-MODIFIED:20260224T091945Z
UID:3213-1773579600-1773590400@upplands-bro.vansterpartiet.se
SUMMARY:Årsmöte
DESCRIPTION:Kontakta oss på upplands-bro@vansterpartiet.se för mer information. \n  \n 
URL:https://upplands-bro.vansterpartiet.se/event/arsmote/
ATTACH;FMTTYPE=image/jpeg:https://upplands-bro.vansterpartiet.se/files/2023/10/received_2250524761812681.jpeg
END:VEVENT
END:VCALENDAR